BEGIN:VCALENDAR
VERSION:2.0
PRODID:-//First Baptist Church - ECPv6.15.17.1//NONSGML v1.0//EN
CALSCALE:GREGORIAN
METHOD:PUBLISH
X-ORIGINAL-URL:https://fbc46975.org
X-WR-CALDESC:Events for First Baptist Church
REFRESH-INTERVAL;VALUE=DURATION:PT1H
X-Robots-Tag:noindex
X-PUBLISHED-TTL:PT1H
BEGIN:VTIMEZONE
TZID:America/Indiana/Indianapolis
BEGIN:DAYLIGHT
TZOFFSETFROM:-0500
TZOFFSETTO:-0400
TZNAME:EDT
DTSTART:20190310T070000
END:DAYLIGHT
BEGIN:STANDARD
TZOFFSETFROM:-0400
TZOFFSETTO:-0500
TZNAME:EST
DTSTART:20191103T060000
END:STANDARD
BEGIN:DAYLIGHT
TZOFFSETFROM:-0500
TZOFFSETTO:-0400
TZNAME:EDT
DTSTART:20200308T070000
END:DAYLIGHT
BEGIN:STANDARD
TZOFFSETFROM:-0400
TZOFFSETTO:-0500
TZNAME:EST
DTSTART:20201101T060000
END:STANDARD
BEGIN:DAYLIGHT
TZOFFSETFROM:-0500
TZOFFSETTO:-0400
TZNAME:EDT
DTSTART:20210314T070000
END:DAYLIGHT
BEGIN:STANDARD
TZOFFSETFROM:-0400
TZOFFSETTO:-0500
TZNAME:EST
DTSTART:20211107T060000
END:STANDARD
END:VTIMEZONE
BEGIN:VEVENT
DTSTART;TZID=America/Indiana/Indianapolis:20201227T080000
DTEND;TZID=America/Indiana/Indianapolis:20201227T090000
DTSTAMP:20260419T173241
CREATED:20201029T134559Z
LAST-MODIFIED:20201029T134559Z
UID:684-1609056000-1609059600@fbc46975.org
SUMMARY:Worship Service
DESCRIPTION:
URL:https://fbc46975.org/calendar/worship-service-29/
LOCATION:First Baptist Church\, 1000 Main St\, Rochester\, IN\, 46975\, United States
END:VEVENT
BEGIN:VEVENT
DTSTART;TZID=America/Indiana/Indianapolis:20201227T091500
DTEND;TZID=America/Indiana/Indianapolis:20201227T101500
DTSTAMP:20260419T173241
CREATED:20201029T135230Z
LAST-MODIFIED:20201223T175731Z
UID:690-1609060500-1609064100@fbc46975.org
SUMMARY:Sunday School - On Zoom and in person
DESCRIPTION:
URL:https://fbc46975.org/calendar/sunday-school-14/
LOCATION:First Baptist Church\, 1000 Main St\, Rochester\, IN\, 46975\, United States
END:VEVENT
BEGIN:VEVENT
DTSTART;TZID=America/Indiana/Indianapolis:20201227T103000
DTEND;TZID=America/Indiana/Indianapolis:20201227T113000
DTSTAMP:20260419T173241
CREATED:20201029T134754Z
LAST-MODIFIED:20201203T151559Z
UID:688-1609065000-1609068600@fbc46975.org
SUMMARY:Worship Service- In Person and Livestream
DESCRIPTION:
URL:https://fbc46975.org/calendar/worship-service-30/
LOCATION:First Baptist Church\, 1000 Main St\, Rochester\, IN\, 46975\, United States
END:VEVENT
END:VCALENDAR