BEGIN:VCALENDAR
VERSION:2.0
PRODID:-//First Baptist Church - ECPv6.15.17.1//NONSGML v1.0//EN
CALSCALE:GREGORIAN
METHOD:PUBLISH
X-ORIGINAL-URL:https://fbc46975.org
X-WR-CALDESC:Events for First Baptist Church
REFRESH-INTERVAL;VALUE=DURATION:PT1H
X-Robots-Tag:noindex
X-PUBLISHED-TTL:PT1H
BEGIN:VTIMEZONE
TZID:America/Indiana/Indianapolis
BEGIN:DAYLIGHT
TZOFFSETFROM:-0500
TZOFFSETTO:-0400
TZNAME:EDT
DTSTART:20200308T070000
END:DAYLIGHT
BEGIN:STANDARD
TZOFFSETFROM:-0400
TZOFFSETTO:-0500
TZNAME:EST
DTSTART:20201101T060000
END:STANDARD
BEGIN:DAYLIGHT
TZOFFSETFROM:-0500
TZOFFSETTO:-0400
TZNAME:EDT
DTSTART:20210314T070000
END:DAYLIGHT
BEGIN:STANDARD
TZOFFSETFROM:-0400
TZOFFSETTO:-0500
TZNAME:EST
DTSTART:20211107T060000
END:STANDARD
BEGIN:DAYLIGHT
TZOFFSETFROM:-0500
TZOFFSETTO:-0400
TZNAME:EDT
DTSTART:20220313T070000
END:DAYLIGHT
BEGIN:STANDARD
TZOFFSETFROM:-0400
TZOFFSETTO:-0500
TZNAME:EST
DTSTART:20221106T060000
END:STANDARD
END:VTIMEZONE
BEGIN:VEVENT
DTSTART;TZID=America/Indiana/Indianapolis:20210117T080000
DTEND;TZID=America/Indiana/Indianapolis:20210117T090000
DTSTAMP:20260419T153609
CREATED:20201125T174146Z
LAST-MODIFIED:20201125T174146Z
UID:778-1610870400-1610874000@fbc46975.org
SUMMARY:Early Worship Service
DESCRIPTION:
URL:https://fbc46975.org/calendar/early-worship-service-3/
LOCATION:First Baptist Church\, 1000 Main St\, Rochester\, IN\, 46975\, United States
END:VEVENT
BEGIN:VEVENT
DTSTART;TZID=America/Indiana/Indianapolis:20210117T091500
DTEND;TZID=America/Indiana/Indianapolis:20210117T101500
DTSTAMP:20260419T153609
CREATED:20201125T174249Z
LAST-MODIFIED:20201221T141755Z
UID:780-1610874900-1610878500@fbc46975.org
SUMMARY:Sunday School - Zoom and in person
DESCRIPTION:
URL:https://fbc46975.org/calendar/sunday-school-16/
LOCATION:First Baptist Church\, 1000 Main St\, Rochester\, IN\, 46975\, United States
END:VEVENT
BEGIN:VEVENT
DTSTART;TZID=America/Indiana/Indianapolis:20210117T103000
DTEND;TZID=America/Indiana/Indianapolis:20210117T113000
DTSTAMP:20260419T153609
CREATED:20201125T174339Z
LAST-MODIFIED:20201221T141713Z
UID:782-1610879400-1610883000@fbc46975.org
SUMMARY:Worship Service - In person and livestream
DESCRIPTION:
URL:https://fbc46975.org/calendar/worship-service-17/
LOCATION:First Baptist Church\, 1000 Main St\, Rochester\, IN\, 46975\, United States
END:VEVENT
END:VCALENDAR