BEGIN:VCALENDAR
VERSION:2.0
PRODID:-//First Baptist Church - ECPv6.15.17.1//NONSGML v1.0//EN
CALSCALE:GREGORIAN
METHOD:PUBLISH
X-ORIGINAL-URL:https://fbc46975.org
X-WR-CALDESC:Events for First Baptist Church
REFRESH-INTERVAL;VALUE=DURATION:PT1H
X-Robots-Tag:noindex
X-PUBLISHED-TTL:PT1H
BEGIN:VTIMEZONE
TZID:America/Indiana/Indianapolis
BEGIN:DAYLIGHT
TZOFFSETFROM:-0500
TZOFFSETTO:-0400
TZNAME:EDT
DTSTART:20200308T070000
END:DAYLIGHT
BEGIN:STANDARD
TZOFFSETFROM:-0400
TZOFFSETTO:-0500
TZNAME:EST
DTSTART:20201101T060000
END:STANDARD
BEGIN:DAYLIGHT
TZOFFSETFROM:-0500
TZOFFSETTO:-0400
TZNAME:EDT
DTSTART:20210314T070000
END:DAYLIGHT
BEGIN:STANDARD
TZOFFSETFROM:-0400
TZOFFSETTO:-0500
TZNAME:EST
DTSTART:20211107T060000
END:STANDARD
BEGIN:DAYLIGHT
TZOFFSETFROM:-0500
TZOFFSETTO:-0400
TZNAME:EDT
DTSTART:20220313T070000
END:DAYLIGHT
BEGIN:STANDARD
TZOFFSETFROM:-0400
TZOFFSETTO:-0500
TZNAME:EST
DTSTART:20221106T060000
END:STANDARD
END:VTIMEZONE
BEGIN:VEVENT
DTSTART;TZID=America/Indiana/Indianapolis:20210124T080000
DTEND;TZID=America/Indiana/Indianapolis:20210124T090000
DTSTAMP:20260421T044210
CREATED:20201221T143806Z
LAST-MODIFIED:20201221T143806Z
UID:831-1611475200-1611478800@fbc46975.org
SUMMARY:Early Worship Service
DESCRIPTION:
URL:https://fbc46975.org/calendar/early-worship-service-4/
LOCATION:First Baptist Church\, 1000 Main St\, Rochester\, IN\, 46975\, United States
END:VEVENT
BEGIN:VEVENT
DTSTART;TZID=America/Indiana/Indianapolis:20210124T091500
DTEND;TZID=America/Indiana/Indianapolis:20210124T101500
DTSTAMP:20260421T044210
CREATED:20201221T143948Z
LAST-MODIFIED:20201221T143948Z
UID:833-1611479700-1611483300@fbc46975.org
SUMMARY:Sunday School - On Zoom and in person
DESCRIPTION:
URL:https://fbc46975.org/calendar/sunday-school-on-zoom-and-in-person/
LOCATION:First Baptist Church\, 1000 Main St\, Rochester\, IN\, 46975\, United States
END:VEVENT
BEGIN:VEVENT
DTSTART;TZID=America/Indiana/Indianapolis:20210124T103000
DTEND;TZID=America/Indiana/Indianapolis:20210124T113000
DTSTAMP:20260421T044210
CREATED:20201221T144118Z
LAST-MODIFIED:20201221T144118Z
UID:835-1611484200-1611487800@fbc46975.org
SUMMARY:Worship Service - In person and livestream
DESCRIPTION:
URL:https://fbc46975.org/calendar/worship-service-in-person-and-livestream/
LOCATION:First Baptist Church\, 1000 Main St\, Rochester\, IN\, 46975\, United States
END:VEVENT
END:VCALENDAR