BEGIN:VCALENDAR
VERSION:2.0
PRODID:-//First Baptist Church - ECPv6.15.17.1//NONSGML v1.0//EN
CALSCALE:GREGORIAN
METHOD:PUBLISH
X-ORIGINAL-URL:https://fbc46975.org
X-WR-CALDESC:Events for First Baptist Church
REFRESH-INTERVAL;VALUE=DURATION:PT1H
X-Robots-Tag:noindex
X-PUBLISHED-TTL:PT1H
BEGIN:VTIMEZONE
TZID:America/Indiana/Indianapolis
BEGIN:DAYLIGHT
TZOFFSETFROM:-0500
TZOFFSETTO:-0400
TZNAME:EDT
DTSTART:20200308T070000
END:DAYLIGHT
BEGIN:STANDARD
TZOFFSETFROM:-0400
TZOFFSETTO:-0500
TZNAME:EST
DTSTART:20201101T060000
END:STANDARD
BEGIN:DAYLIGHT
TZOFFSETFROM:-0500
TZOFFSETTO:-0400
TZNAME:EDT
DTSTART:20210314T070000
END:DAYLIGHT
BEGIN:STANDARD
TZOFFSETFROM:-0400
TZOFFSETTO:-0500
TZNAME:EST
DTSTART:20211107T060000
END:STANDARD
BEGIN:DAYLIGHT
TZOFFSETFROM:-0500
TZOFFSETTO:-0400
TZNAME:EDT
DTSTART:20220313T070000
END:DAYLIGHT
BEGIN:STANDARD
TZOFFSETFROM:-0400
TZOFFSETTO:-0500
TZNAME:EST
DTSTART:20221106T060000
END:STANDARD
END:VTIMEZONE
BEGIN:VEVENT
DTSTART;TZID=America/Indiana/Indianapolis:20210523T080000
DTEND;TZID=America/Indiana/Indianapolis:20210523T090000
DTSTAMP:20260419T171953
CREATED:20210407T133109Z
LAST-MODIFIED:20210407T133109Z
UID:1109-1621756800-1621760400@fbc46975.org
SUMMARY:Worship Service
DESCRIPTION:
URL:https://fbc46975.org/calendar/worship-service-42/
LOCATION:First Baptist Church\, 1000 Main St\, Rochester\, IN\, 46975\, United States
END:VEVENT
BEGIN:VEVENT
DTSTART;TZID=America/Indiana/Indianapolis:20210523T091500
DTEND;TZID=America/Indiana/Indianapolis:20210523T101500
DTSTAMP:20260419T171953
CREATED:20210407T133458Z
LAST-MODIFIED:20210407T133458Z
UID:1111-1621761300-1621764900@fbc46975.org
SUMMARY:Sunday School - in person and on Zoom
DESCRIPTION:
URL:https://fbc46975.org/calendar/sunday-school-in-person-and-on-zoom-14/
LOCATION:First Baptist Church\, 1000 Main St\, Rochester\, IN\, 46975\, United States
END:VEVENT
BEGIN:VEVENT
DTSTART;TZID=America/Indiana/Indianapolis:20210523T103000
DTEND;TZID=America/Indiana/Indianapolis:20210523T113000
DTSTAMP:20260419T171953
CREATED:20210407T133554Z
LAST-MODIFIED:20210407T133554Z
UID:1113-1621765800-1621769400@fbc46975.org
SUMMARY:Worship Service - in person and on livestream
DESCRIPTION:
URL:https://fbc46975.org/calendar/worship-service-in-person-and-on-livestream-8/
LOCATION:First Baptist Church\, 1000 Main St\, Rochester\, IN\, 46975\, United States
END:VEVENT
END:VCALENDAR