BEGIN:VCALENDAR
VERSION:2.0
PRODID:-//First Baptist Church - ECPv6.15.17.1//NONSGML v1.0//EN
CALSCALE:GREGORIAN
METHOD:PUBLISH
X-WR-CALNAME:First Baptist Church
X-ORIGINAL-URL:https://fbc46975.org
X-WR-CALDESC:Events for First Baptist Church
REFRESH-INTERVAL;VALUE=DURATION:PT1H
X-Robots-Tag:noindex
X-PUBLISHED-TTL:PT1H
BEGIN:VTIMEZONE
TZID:America/Indiana/Indianapolis
BEGIN:DAYLIGHT
TZOFFSETFROM:-0500
TZOFFSETTO:-0400
TZNAME:EDT
DTSTART:20200308T070000
END:DAYLIGHT
BEGIN:STANDARD
TZOFFSETFROM:-0400
TZOFFSETTO:-0500
TZNAME:EST
DTSTART:20201101T060000
END:STANDARD
BEGIN:DAYLIGHT
TZOFFSETFROM:-0500
TZOFFSETTO:-0400
TZNAME:EDT
DTSTART:20210314T070000
END:DAYLIGHT
BEGIN:STANDARD
TZOFFSETFROM:-0400
TZOFFSETTO:-0500
TZNAME:EST
DTSTART:20211107T060000
END:STANDARD
BEGIN:DAYLIGHT
TZOFFSETFROM:-0500
TZOFFSETTO:-0400
TZNAME:EDT
DTSTART:20220313T070000
END:DAYLIGHT
BEGIN:STANDARD
TZOFFSETFROM:-0400
TZOFFSETTO:-0500
TZNAME:EST
DTSTART:20221106T060000
END:STANDARD
END:VTIMEZONE
BEGIN:VEVENT
DTSTART;TZID=America/Indiana/Indianapolis:20210711T074400
DTEND;TZID=America/Indiana/Indianapolis:20210711T084400
DTSTAMP:20260419T081746
CREATED:20210526T144205Z
LAST-MODIFIED:20210526T144205Z
UID:1233-1625989440-1625993040@fbc46975.org
SUMMARY:Lake Service
DESCRIPTION:
URL:https://fbc46975.org/calendar/lake-service-7/
LOCATION:Lake Maniou Spillway
END:VEVENT
BEGIN:VEVENT
DTSTART;TZID=America/Indiana/Indianapolis:20210711T091500
DTEND;TZID=America/Indiana/Indianapolis:20210711T101500
DTSTAMP:20260419T081746
CREATED:20210526T144353Z
LAST-MODIFIED:20210526T144353Z
UID:1235-1625994900-1625998500@fbc46975.org
SUMMARY:Sunday School in person and on Zoom
DESCRIPTION:
URL:https://fbc46975.org/calendar/sunday-school-in-person-and-on-zoom-18/
LOCATION:First Baptist Church\, 1000 Main St\, Rochester\, IN\, 46975\, United States
END:VEVENT
BEGIN:VEVENT
DTSTART;TZID=America/Indiana/Indianapolis:20210711T103000
DTEND;TZID=America/Indiana/Indianapolis:20210711T113000
DTSTAMP:20260419T081746
CREATED:20210526T144458Z
LAST-MODIFIED:20210526T144458Z
UID:1237-1625999400-1626003000@fbc46975.org
SUMMARY:Worship Service in person and on YouTube
DESCRIPTION:
URL:https://fbc46975.org/calendar/worship-service-in-person-and-on-youtube-5/
LOCATION:First Baptist Church\, 1000 Main St\, Rochester\, IN\, 46975\, United States
END:VEVENT
END:VCALENDAR