BEGIN:VCALENDAR
VERSION:2.0
PRODID:-//First Baptist Church - ECPv6.15.17.1//NONSGML v1.0//EN
CALSCALE:GREGORIAN
METHOD:PUBLISH
X-WR-CALNAME:First Baptist Church
X-ORIGINAL-URL:https://fbc46975.org
X-WR-CALDESC:Events for First Baptist Church
REFRESH-INTERVAL;VALUE=DURATION:PT1H
X-Robots-Tag:noindex
X-PUBLISHED-TTL:PT1H
BEGIN:VTIMEZONE
TZID:America/Indiana/Indianapolis
BEGIN:DAYLIGHT
TZOFFSETFROM:-0500
TZOFFSETTO:-0400
TZNAME:EDT
DTSTART:20200308T070000
END:DAYLIGHT
BEGIN:STANDARD
TZOFFSETFROM:-0400
TZOFFSETTO:-0500
TZNAME:EST
DTSTART:20201101T060000
END:STANDARD
BEGIN:DAYLIGHT
TZOFFSETFROM:-0500
TZOFFSETTO:-0400
TZNAME:EDT
DTSTART:20210314T070000
END:DAYLIGHT
BEGIN:STANDARD
TZOFFSETFROM:-0400
TZOFFSETTO:-0500
TZNAME:EST
DTSTART:20211107T060000
END:STANDARD
BEGIN:DAYLIGHT
TZOFFSETFROM:-0500
TZOFFSETTO:-0400
TZNAME:EDT
DTSTART:20220313T070000
END:DAYLIGHT
BEGIN:STANDARD
TZOFFSETFROM:-0400
TZOFFSETTO:-0500
TZNAME:EST
DTSTART:20221106T060000
END:STANDARD
END:VTIMEZONE
BEGIN:VEVENT
DTSTART;TZID=America/Indiana/Indianapolis:20210801T074400
DTEND;TZID=America/Indiana/Indianapolis:20210801T084400
DTSTAMP:20260420T002507
CREATED:20210707T152951Z
LAST-MODIFIED:20210707T152951Z
UID:1305-1627803840-1627807440@fbc46975.org
SUMMARY:Lake Service
DESCRIPTION:
URL:https://fbc46975.org/calendar/lake-service-10/
LOCATION:Lake Maniou Spillway
END:VEVENT
BEGIN:VEVENT
DTSTART;TZID=America/Indiana/Indianapolis:20210801T091500
DTEND;TZID=America/Indiana/Indianapolis:20210801T101500
DTSTAMP:20260420T002507
CREATED:20210707T153209Z
LAST-MODIFIED:20210713T153639Z
UID:1307-1627809300-1627812900@fbc46975.org
SUMMARY:Sunday School - in person and on Zoom
DESCRIPTION:
URL:https://fbc46975.org/calendar/sunday-school-18/
LOCATION:First Baptist Church\, 1000 Main St\, Rochester\, IN\, 46975\, United States
END:VEVENT
BEGIN:VEVENT
DTSTART;TZID=America/Indiana/Indianapolis:20210801T103000
DTEND;TZID=America/Indiana/Indianapolis:20210801T113000
DTSTAMP:20260420T002507
CREATED:20210707T153253Z
LAST-MODIFIED:20210713T153151Z
UID:1309-1627813800-1627817400@fbc46975.org
SUMMARY:Worship Service in person and on Youtube
DESCRIPTION:
URL:https://fbc46975.org/calendar/worship-service-44/
LOCATION:First Baptist Church\, 1000 Main St\, Rochester\, IN\, 46975\, United States
END:VEVENT
END:VCALENDAR