BEGIN:VCALENDAR
VERSION:2.0
PRODID:-//First Baptist Church - ECPv6.15.17.1//NONSGML v1.0//EN
CALSCALE:GREGORIAN
METHOD:PUBLISH
X-WR-CALNAME:First Baptist Church
X-ORIGINAL-URL:https://fbc46975.org
X-WR-CALDESC:Events for First Baptist Church
REFRESH-INTERVAL;VALUE=DURATION:PT1H
X-Robots-Tag:noindex
X-PUBLISHED-TTL:PT1H
BEGIN:VTIMEZONE
TZID:America/Indiana/Indianapolis
BEGIN:DAYLIGHT
TZOFFSETFROM:-0500
TZOFFSETTO:-0400
TZNAME:EDT
DTSTART:20200308T070000
END:DAYLIGHT
BEGIN:STANDARD
TZOFFSETFROM:-0400
TZOFFSETTO:-0500
TZNAME:EST
DTSTART:20201101T060000
END:STANDARD
BEGIN:DAYLIGHT
TZOFFSETFROM:-0500
TZOFFSETTO:-0400
TZNAME:EDT
DTSTART:20210314T070000
END:DAYLIGHT
BEGIN:STANDARD
TZOFFSETFROM:-0400
TZOFFSETTO:-0500
TZNAME:EST
DTSTART:20211107T060000
END:STANDARD
BEGIN:DAYLIGHT
TZOFFSETFROM:-0500
TZOFFSETTO:-0400
TZNAME:EDT
DTSTART:20220313T070000
END:DAYLIGHT
BEGIN:STANDARD
TZOFFSETFROM:-0400
TZOFFSETTO:-0500
TZNAME:EST
DTSTART:20221106T060000
END:STANDARD
END:VTIMEZONE
BEGIN:VEVENT
DTSTART;TZID=America/Indiana/Indianapolis:20210829T074400
DTEND;TZID=America/Indiana/Indianapolis:20210829T084400
DTSTAMP:20260420T035807
CREATED:20210713T160900Z
LAST-MODIFIED:20210713T160900Z
UID:1336-1630223040-1630226640@fbc46975.org
SUMMARY:Lake Service
DESCRIPTION:
URL:https://fbc46975.org/calendar/lake-service-14/
LOCATION:Lake Maniou Spillway
END:VEVENT
BEGIN:VEVENT
DTSTART;TZID=America/Indiana/Indianapolis:20210829T091500
DTEND;TZID=America/Indiana/Indianapolis:20210829T101500
DTSTAMP:20260420T035807
CREATED:20210713T161003Z
LAST-MODIFIED:20210713T161003Z
UID:1338-1630228500-1630232100@fbc46975.org
SUMMARY:Sunday School - in person and on Zoom
DESCRIPTION:
URL:https://fbc46975.org/calendar/sunday-school-in-person-and-on-zoom-24/
LOCATION:First Baptist Church\, 1000 Main St\, Rochester\, IN\, 46975\, United States
END:VEVENT
BEGIN:VEVENT
DTSTART;TZID=America/Indiana/Indianapolis:20210829T103000
DTEND;TZID=America/Indiana/Indianapolis:20210829T113000
DTSTAMP:20260420T035807
CREATED:20210713T161055Z
LAST-MODIFIED:20210713T161055Z
UID:1340-1630233000-1630236600@fbc46975.org
SUMMARY:Worship Service - in person and on YouTube
DESCRIPTION:
URL:https://fbc46975.org/calendar/worship-service-in-person-and-on-youtube-11/
LOCATION:First Baptist Church\, 1000 Main St\, Rochester\, IN\, 46975\, United States
END:VEVENT
END:VCALENDAR