BEGIN:VCALENDAR
VERSION:2.0
PRODID:-//First Baptist Church - ECPv6.15.17.1//NONSGML v1.0//EN
CALSCALE:GREGORIAN
METHOD:PUBLISH
X-WR-CALNAME:First Baptist Church
X-ORIGINAL-URL:https://fbc46975.org
X-WR-CALDESC:Events for First Baptist Church
REFRESH-INTERVAL;VALUE=DURATION:PT1H
X-Robots-Tag:noindex
X-PUBLISHED-TTL:PT1H
BEGIN:VTIMEZONE
TZID:America/Indiana/Indianapolis
BEGIN:DAYLIGHT
TZOFFSETFROM:-0500
TZOFFSETTO:-0400
TZNAME:EDT
DTSTART:20200308T070000
END:DAYLIGHT
BEGIN:STANDARD
TZOFFSETFROM:-0400
TZOFFSETTO:-0500
TZNAME:EST
DTSTART:20201101T060000
END:STANDARD
BEGIN:DAYLIGHT
TZOFFSETFROM:-0500
TZOFFSETTO:-0400
TZNAME:EDT
DTSTART:20210314T070000
END:DAYLIGHT
BEGIN:STANDARD
TZOFFSETFROM:-0400
TZOFFSETTO:-0500
TZNAME:EST
DTSTART:20211107T060000
END:STANDARD
BEGIN:DAYLIGHT
TZOFFSETFROM:-0500
TZOFFSETTO:-0400
TZNAME:EDT
DTSTART:20220313T070000
END:DAYLIGHT
BEGIN:STANDARD
TZOFFSETFROM:-0400
TZOFFSETTO:-0500
TZNAME:EST
DTSTART:20221106T060000
END:STANDARD
END:VTIMEZONE
BEGIN:VEVENT
DTSTART;TZID=America/Indiana/Indianapolis:20210912T093000
DTEND;TZID=America/Indiana/Indianapolis:20210912T103000
DTSTAMP:20260420T072502
CREATED:20210719T160640Z
LAST-MODIFIED:20210719T160640Z
UID:1379-1631439000-1631442600@fbc46975.org
SUMMARY:Worship Service - in person and on YouTube
DESCRIPTION:
URL:https://fbc46975.org/calendar/worship-service-in-person-and-on-youtube-13/
LOCATION:First Baptist Church\, 1000 Main St\, Rochester\, IN\, 46975\, United States
END:VEVENT
BEGIN:VEVENT
DTSTART;TZID=America/Indiana/Indianapolis:20210912T104500
DTEND;TZID=America/Indiana/Indianapolis:20210912T114500
DTSTAMP:20260420T072502
CREATED:20210719T160935Z
LAST-MODIFIED:20210719T161002Z
UID:1381-1631443500-1631447100@fbc46975.org
SUMMARY:Sunday School - in person and on Zoom
DESCRIPTION:
URL:https://fbc46975.org/calendar/sunday-school-in-person-and-on-zoom-26/
LOCATION:First Baptist Church\, 1000 Main St\, Rochester\, IN\, 46975\, United States
END:VEVENT
BEGIN:VEVENT
DTSTART;TZID=America/Indiana/Indianapolis:20210912T120000
DTEND;TZID=America/Indiana/Indianapolis:20210912T133000
DTSTAMP:20260420T072502
CREATED:20210909T014128Z
LAST-MODIFIED:20210909T014128Z
UID:1571-1631448000-1631453400@fbc46975.org
SUMMARY:Youth Group Planning and Pizza at the Park
DESCRIPTION:Youth and families are invited to join us for pizza and planning for the upcoming youth season. Contact Rhonda Johnson at 574-721-8544 or rhondajohnson@fbc46975.org for more details.
URL:https://fbc46975.org/calendar/youth-group-planning-and-pizza-at-the-park/
LOCATION:Rochester City Park
END:VEVENT
END:VCALENDAR