BEGIN:VCALENDAR
VERSION:2.0
PRODID:-//First Baptist Church - ECPv6.15.17.1//NONSGML v1.0//EN
CALSCALE:GREGORIAN
METHOD:PUBLISH
X-ORIGINAL-URL:https://fbc46975.org
X-WR-CALDESC:Events for First Baptist Church
REFRESH-INTERVAL;VALUE=DURATION:PT1H
X-Robots-Tag:noindex
X-PUBLISHED-TTL:PT1H
BEGIN:VTIMEZONE
TZID:America/Indiana/Indianapolis
BEGIN:DAYLIGHT
TZOFFSETFROM:-0500
TZOFFSETTO:-0400
TZNAME:EDT
DTSTART:20210314T070000
END:DAYLIGHT
BEGIN:STANDARD
TZOFFSETFROM:-0400
TZOFFSETTO:-0500
TZNAME:EST
DTSTART:20211107T060000
END:STANDARD
BEGIN:DAYLIGHT
TZOFFSETFROM:-0500
TZOFFSETTO:-0400
TZNAME:EDT
DTSTART:20220313T070000
END:DAYLIGHT
BEGIN:STANDARD
TZOFFSETFROM:-0400
TZOFFSETTO:-0500
TZNAME:EST
DTSTART:20221106T060000
END:STANDARD
BEGIN:DAYLIGHT
TZOFFSETFROM:-0500
TZOFFSETTO:-0400
TZNAME:EDT
DTSTART:20230312T070000
END:DAYLIGHT
BEGIN:STANDARD
TZOFFSETFROM:-0400
TZOFFSETTO:-0500
TZNAME:EST
DTSTART:20231105T060000
END:STANDARD
END:VTIMEZONE
BEGIN:VEVENT
DTSTART;TZID=America/Indiana/Indianapolis:20220202T100000
DTEND;TZID=America/Indiana/Indianapolis:20220202T110000
DTSTAMP:20260419T185317
CREATED:20211228T143947Z
LAST-MODIFIED:20211228T143947Z
UID:1872-1643796000-1643799600@fbc46975.org
SUMMARY:Bible Study
DESCRIPTION:
URL:https://fbc46975.org/calendar/bible-study-38/
LOCATION:First Baptist Church\, 1000 Main St\, Rochester\, IN\, 46975\, United States
END:VEVENT
BEGIN:VEVENT
DTSTART;TZID=America/Indiana/Indianapolis:20220202T173000
DTEND;TZID=America/Indiana/Indianapolis:20220202T180000
DTSTAMP:20260419T185317
CREATED:20211228T144035Z
LAST-MODIFIED:20211228T144035Z
UID:1874-1643823000-1643824800@fbc46975.org
SUMMARY:Light meal
DESCRIPTION:
URL:https://fbc46975.org/calendar/light-meal-12/
LOCATION:First Baptist Church\, 1000 Main St\, Rochester\, IN\, 46975\, United States
END:VEVENT
BEGIN:VEVENT
DTSTART;TZID=America/Indiana/Indianapolis:20220202T180000
DTEND;TZID=America/Indiana/Indianapolis:20220202T193000
DTSTAMP:20260419T185317
CREATED:20211228T144121Z
LAST-MODIFIED:20211228T144121Z
UID:1876-1643824800-1643830200@fbc46975.org
SUMMARY:FBC Kids Club
DESCRIPTION:
URL:https://fbc46975.org/calendar/fbc-kids-club-4/
LOCATION:First Baptist Church\, 1000 Main St\, Rochester\, IN\, 46975\, United States
END:VEVENT
BEGIN:VEVENT
DTSTART;TZID=America/Indiana/Indianapolis:20220202T180000
DTEND;TZID=America/Indiana/Indianapolis:20220202T193000
DTSTAMP:20260419T185317
CREATED:20211228T144206Z
LAST-MODIFIED:20211228T144206Z
UID:1878-1643824800-1643830200@fbc46975.org
SUMMARY:Believe Bible Study
DESCRIPTION:
URL:https://fbc46975.org/calendar/believe-bible-study-6/
LOCATION:First Baptist Church\, 1000 Main St\, Rochester\, IN\, 46975\, United States
END:VEVENT
END:VCALENDAR