BEGIN:VCALENDAR
VERSION:2.0
PRODID:-//First Baptist Church - ECPv6.15.17.1//NONSGML v1.0//EN
CALSCALE:GREGORIAN
METHOD:PUBLISH
X-ORIGINAL-URL:https://fbc46975.org
X-WR-CALDESC:Events for First Baptist Church
REFRESH-INTERVAL;VALUE=DURATION:PT1H
X-Robots-Tag:noindex
X-PUBLISHED-TTL:PT1H
BEGIN:VTIMEZONE
TZID:America/Indiana/Indianapolis
BEGIN:DAYLIGHT
TZOFFSETFROM:-0500
TZOFFSETTO:-0400
TZNAME:EDT
DTSTART:20210314T070000
END:DAYLIGHT
BEGIN:STANDARD
TZOFFSETFROM:-0400
TZOFFSETTO:-0500
TZNAME:EST
DTSTART:20211107T060000
END:STANDARD
BEGIN:DAYLIGHT
TZOFFSETFROM:-0500
TZOFFSETTO:-0400
TZNAME:EDT
DTSTART:20220313T070000
END:DAYLIGHT
BEGIN:STANDARD
TZOFFSETFROM:-0400
TZOFFSETTO:-0500
TZNAME:EST
DTSTART:20221106T060000
END:STANDARD
BEGIN:DAYLIGHT
TZOFFSETFROM:-0500
TZOFFSETTO:-0400
TZNAME:EDT
DTSTART:20230312T070000
END:DAYLIGHT
BEGIN:STANDARD
TZOFFSETFROM:-0400
TZOFFSETTO:-0500
TZNAME:EST
DTSTART:20231105T060000
END:STANDARD
END:VTIMEZONE
BEGIN:VEVENT
DTSTART;TZID=America/Indiana/Indianapolis:20220206T093000
DTEND;TZID=America/Indiana/Indianapolis:20220206T103000
DTSTAMP:20260419T205425
CREATED:20220106T143605Z
LAST-MODIFIED:20220106T143605Z
UID:1900-1644139800-1644143400@fbc46975.org
SUMMARY:Worship Service in person and on YouTube
DESCRIPTION:
URL:https://fbc46975.org/calendar/worship-service-in-person-and-on-youtube-19/
LOCATION:First Baptist Church\, 1000 Main St\, Rochester\, IN\, 46975\, United States
END:VEVENT
BEGIN:VEVENT
DTSTART;TZID=America/Indiana/Indianapolis:20220206T104500
DTEND;TZID=America/Indiana/Indianapolis:20220206T114500
DTSTAMP:20260419T205425
CREATED:20220106T143722Z
LAST-MODIFIED:20220106T143722Z
UID:1902-1644144300-1644147900@fbc46975.org
SUMMARY:Sunday School in person and on Zoom
DESCRIPTION:
URL:https://fbc46975.org/calendar/sunday-school-in-person-and-on-zoom-45/
LOCATION:First Baptist Church\, 1000 Main St\, Rochester\, IN\, 46975\, United States
END:VEVENT
BEGIN:VEVENT
DTSTART;TZID=America/Indiana/Indianapolis:20220206T114500
DTEND;TZID=America/Indiana/Indianapolis:20220206T130000
DTSTAMP:20260419T205425
CREATED:20220106T164407Z
LAST-MODIFIED:20220106T164407Z
UID:1946-1644147900-1644152400@fbc46975.org
SUMMARY:Soup Bowl
DESCRIPTION:
URL:https://fbc46975.org/calendar/soup-bowl/
LOCATION:First Baptist Church\, 1000 Main St\, Rochester\, IN\, 46975\, United States
END:VEVENT
END:VCALENDAR