BEGIN:VCALENDAR
VERSION:2.0
PRODID:-//First Baptist Church - ECPv6.15.17.1//NONSGML v1.0//EN
CALSCALE:GREGORIAN
METHOD:PUBLISH
X-ORIGINAL-URL:https://fbc46975.org
X-WR-CALDESC:Events for First Baptist Church
REFRESH-INTERVAL;VALUE=DURATION:PT1H
X-Robots-Tag:noindex
X-PUBLISHED-TTL:PT1H
BEGIN:VTIMEZONE
TZID:America/Indiana/Indianapolis
BEGIN:DAYLIGHT
TZOFFSETFROM:-0500
TZOFFSETTO:-0400
TZNAME:EDT
DTSTART:20220313T070000
END:DAYLIGHT
BEGIN:STANDARD
TZOFFSETFROM:-0400
TZOFFSETTO:-0500
TZNAME:EST
DTSTART:20221106T060000
END:STANDARD
BEGIN:DAYLIGHT
TZOFFSETFROM:-0500
TZOFFSETTO:-0400
TZNAME:EDT
DTSTART:20230312T070000
END:DAYLIGHT
BEGIN:STANDARD
TZOFFSETFROM:-0400
TZOFFSETTO:-0500
TZNAME:EST
DTSTART:20231105T060000
END:STANDARD
BEGIN:DAYLIGHT
TZOFFSETFROM:-0500
TZOFFSETTO:-0400
TZNAME:EDT
DTSTART:20240310T070000
END:DAYLIGHT
BEGIN:STANDARD
TZOFFSETFROM:-0400
TZOFFSETTO:-0500
TZNAME:EST
DTSTART:20241103T060000
END:STANDARD
END:VTIMEZONE
BEGIN:VEVENT
DTSTART;TZID=America/Indiana/Indianapolis:20230115T093000
DTEND;TZID=America/Indiana/Indianapolis:20230115T103000
DTSTAMP:20260424T093947
CREATED:20221128T144931Z
LAST-MODIFIED:20221128T144931Z
UID:2881-1673775000-1673778600@fbc46975.org
SUMMARY:Worship Service (In person and on YouTube)
DESCRIPTION: 
URL:https://fbc46975.org/calendar/worship-service-in-person-and-on-youtube-51/
LOCATION:First Baptist Church\, 1000 Main St\, Rochester\, IN\, 46975\, United States
END:VEVENT
BEGIN:VEVENT
DTSTART;TZID=America/Indiana/Indianapolis:20230115T104500
DTEND;TZID=America/Indiana/Indianapolis:20230115T114500
DTSTAMP:20260424T093947
CREATED:20221128T145426Z
LAST-MODIFIED:20221128T145426Z
UID:2889-1673779500-1673783100@fbc46975.org
SUMMARY:Sunday School (in person and on Zoom)
DESCRIPTION: 
URL:https://fbc46975.org/calendar/sunday-school-in-person-and-on-zoom-69/
LOCATION:First Baptist Church\, 1000 Main St\, Rochester\, IN\, 46975\, United States
END:VEVENT
BEGIN:VEVENT
DTSTART;TZID=America/Indiana/Indianapolis:20230115T114500
DTEND;TZID=America/Indiana/Indianapolis:20230115T150000
DTSTAMP:20260424T093947
CREATED:20230101T231811Z
LAST-MODIFIED:20230101T231811Z
UID:2987-1673783100-1673794800@fbc46975.org
SUMMARY:Youth Nerf Day
DESCRIPTION:The Youth Group will be holding a nerf day on Sunday January 15th at 11:45 in the Fellowship Hall. Youth are invited to bring nerf guns and join in the fun! 
URL:https://fbc46975.org/calendar/youth-nerf-day/
LOCATION:First Baptist Church\, 1000 Main St\, Rochester\, IN\, 46975\, United States
END:VEVENT
END:VCALENDAR