BEGIN:VCALENDAR
VERSION:2.0
PRODID:-//First Baptist Church - ECPv6.15.17.1//NONSGML v1.0//EN
CALSCALE:GREGORIAN
METHOD:PUBLISH
X-WR-CALNAME:First Baptist Church
X-ORIGINAL-URL:https://fbc46975.org
X-WR-CALDESC:Events for First Baptist Church
REFRESH-INTERVAL;VALUE=DURATION:PT1H
X-Robots-Tag:noindex
X-PUBLISHED-TTL:PT1H
BEGIN:VTIMEZONE
TZID:America/Indiana/Indianapolis
BEGIN:DAYLIGHT
TZOFFSETFROM:-0500
TZOFFSETTO:-0400
TZNAME:EDT
DTSTART:20220313T070000
END:DAYLIGHT
BEGIN:STANDARD
TZOFFSETFROM:-0400
TZOFFSETTO:-0500
TZNAME:EST
DTSTART:20221106T060000
END:STANDARD
BEGIN:DAYLIGHT
TZOFFSETFROM:-0500
TZOFFSETTO:-0400
TZNAME:EDT
DTSTART:20230312T070000
END:DAYLIGHT
BEGIN:STANDARD
TZOFFSETFROM:-0400
TZOFFSETTO:-0500
TZNAME:EST
DTSTART:20231105T060000
END:STANDARD
BEGIN:DAYLIGHT
TZOFFSETFROM:-0500
TZOFFSETTO:-0400
TZNAME:EDT
DTSTART:20240310T070000
END:DAYLIGHT
BEGIN:STANDARD
TZOFFSETFROM:-0400
TZOFFSETTO:-0500
TZNAME:EST
DTSTART:20241103T060000
END:STANDARD
END:VTIMEZONE
BEGIN:VEVENT
DTSTART;TZID=America/Indiana/Indianapolis:20230219T093000
DTEND;TZID=America/Indiana/Indianapolis:20230219T103000
DTSTAMP:20260423T034510
CREATED:20221128T152639Z
LAST-MODIFIED:20221128T152639Z
UID:2914-1676799000-1676802600@fbc46975.org
SUMMARY:Worship Service (in person and on YouTube)
DESCRIPTION: 
URL:https://fbc46975.org/calendar/worship-service-in-person-and-on-youtube-56/
LOCATION:First Baptist Church\, 1000 Main St\, Rochester\, IN\, 46975\, United States
END:VEVENT
BEGIN:VEVENT
DTSTART;TZID=America/Indiana/Indianapolis:20230219T104500
DTEND;TZID=America/Indiana/Indianapolis:20230219T114500
DTSTAMP:20260423T034510
CREATED:20221128T153554Z
LAST-MODIFIED:20221128T153554Z
UID:2922-1676803500-1676807100@fbc46975.org
SUMMARY:Sunday School (in person and on Zoom)
DESCRIPTION: 
URL:https://fbc46975.org/calendar/sunday-school-in-person-and-on-zoom-74/
LOCATION:First Baptist Church\, 1000 Main St\, Rochester\, IN\, 46975\, United States
END:VEVENT
BEGIN:VEVENT
DTSTART;TZID=America/Indiana/Indianapolis:20230219T114500
DTEND;TZID=America/Indiana/Indianapolis:20230219T140000
DTSTAMP:20260423T034510
CREATED:20230102T160328Z
LAST-MODIFIED:20230130T011627Z
UID:3020-1676807100-1676815200@fbc46975.org
SUMMARY:Soup Bowl
DESCRIPTION:A fundraiser hosted by First Baptist Youth \nTasting begins after Sunday School. Soups will be judged by everyone in attendance. The soup receiving the most donations wins. Unlike other elections\, ballot box stuffing is encouraged! Plan to join us for food\, fun\, and fellowship and help the youth raise funds for future activities. Sign up to bring a soup on the sheet on the window or call Brian or Rhonda Johnson.
URL:https://fbc46975.org/calendar/soup-bowl-2/
LOCATION:First Baptist Church\, 1000 Main St\, Rochester\, IN\, 46975\, United States
END:VEVENT
END:VCALENDAR