BEGIN:VCALENDAR
VERSION:2.0
PRODID:-//First Baptist Church - ECPv6.15.17.1//NONSGML v1.0//EN
CALSCALE:GREGORIAN
METHOD:PUBLISH
X-ORIGINAL-URL:https://fbc46975.org
X-WR-CALDESC:Events for First Baptist Church
REFRESH-INTERVAL;VALUE=DURATION:PT1H
X-Robots-Tag:noindex
X-PUBLISHED-TTL:PT1H
BEGIN:VTIMEZONE
TZID:America/Indiana/Indianapolis
BEGIN:DAYLIGHT
TZOFFSETFROM:-0500
TZOFFSETTO:-0400
TZNAME:EDT
DTSTART:20220313T070000
END:DAYLIGHT
BEGIN:STANDARD
TZOFFSETFROM:-0400
TZOFFSETTO:-0500
TZNAME:EST
DTSTART:20221106T060000
END:STANDARD
BEGIN:DAYLIGHT
TZOFFSETFROM:-0500
TZOFFSETTO:-0400
TZNAME:EDT
DTSTART:20230312T070000
END:DAYLIGHT
BEGIN:STANDARD
TZOFFSETFROM:-0400
TZOFFSETTO:-0500
TZNAME:EST
DTSTART:20231105T060000
END:STANDARD
BEGIN:DAYLIGHT
TZOFFSETFROM:-0500
TZOFFSETTO:-0400
TZNAME:EDT
DTSTART:20240310T070000
END:DAYLIGHT
BEGIN:STANDARD
TZOFFSETFROM:-0400
TZOFFSETTO:-0500
TZNAME:EST
DTSTART:20241103T060000
END:STANDARD
END:VTIMEZONE
BEGIN:VEVENT
DTSTART;TZID=America/Indiana/Indianapolis:20230625T074400
DTEND;TZID=America/Indiana/Indianapolis:20230625T084400
DTSTAMP:20260424T000636
CREATED:20230502T144656Z
LAST-MODIFIED:20230502T144656Z
UID:3293-1687679040-1687682640@fbc46975.org
SUMMARY:Boat Church
DESCRIPTION: 
URL:https://fbc46975.org/calendar/boat-church-25/
LOCATION:Lake Maniou Spillway
END:VEVENT
BEGIN:VEVENT
DTSTART;TZID=America/Indiana/Indianapolis:20230625T091500
DTEND;TZID=America/Indiana/Indianapolis:20230625T101500
DTSTAMP:20260424T000636
CREATED:20230502T144804Z
LAST-MODIFIED:20230502T144804Z
UID:3295-1687684500-1687688100@fbc46975.org
SUMMARY:Sunday School (in person or on Zoom)
DESCRIPTION: 
URL:https://fbc46975.org/calendar/sunday-school-in-person-or-on-zoom-19/
LOCATION:First Baptist Church\, 1000 Main St\, Rochester\, IN\, 46975\, United States
END:VEVENT
BEGIN:VEVENT
DTSTART;TZID=America/Indiana/Indianapolis:20230625T103000
DTEND;TZID=America/Indiana/Indianapolis:20230625T113000
DTSTAMP:20260424T000636
CREATED:20230502T144903Z
LAST-MODIFIED:20230502T144903Z
UID:3297-1687689000-1687692600@fbc46975.org
SUMMARY:Worship Service (in person or on YouTube)
DESCRIPTION: 
URL:https://fbc46975.org/calendar/worship-service-in-person-or-on-youtube-19/
LOCATION:First Baptist Church\, 1000 Main St\, Rochester\, IN\, 46975\, United States
END:VEVENT
BEGIN:VEVENT
DTSTART;TZID=America/Indiana/Indianapolis:20230625T120000
DTEND;TZID=America/Indiana/Indianapolis:20230625T140000
DTSTAMP:20260424T000636
CREATED:20230611T162645Z
LAST-MODIFIED:20230611T162645Z
UID:3416-1687694400-1687701600@fbc46975.org
SUMMARY:Pastor Appreciation Carry-In
DESCRIPTION:There will be a send-off celebration for Pastor Chuck and his wife Lois at the church on Sunday\, June 25th at noon. This event will be a carry-in so please feel free to bring an entree\, side\, or dessert to share. We hope to see you there as we come together to show our appreciation to Chuck and Lois for everything they have meant to this church and our broader community.
URL:https://fbc46975.org/calendar/pastor-appreciation-carry-in/
LOCATION:First Baptist Church\, 1000 Main St\, Rochester\, IN\, 46975\, United States
END:VEVENT
END:VCALENDAR