BEGIN:VCALENDAR
VERSION:2.0
PRODID:-//First Baptist Church - ECPv6.15.17.1//NONSGML v1.0//EN
CALSCALE:GREGORIAN
METHOD:PUBLISH
X-ORIGINAL-URL:https://fbc46975.org
X-WR-CALDESC:Events for First Baptist Church
REFRESH-INTERVAL;VALUE=DURATION:PT1H
X-Robots-Tag:noindex
X-PUBLISHED-TTL:PT1H
BEGIN:VTIMEZONE
TZID:America/Indiana/Indianapolis
BEGIN:DAYLIGHT
TZOFFSETFROM:-0500
TZOFFSETTO:-0400
TZNAME:EDT
DTSTART:20220313T070000
END:DAYLIGHT
BEGIN:STANDARD
TZOFFSETFROM:-0400
TZOFFSETTO:-0500
TZNAME:EST
DTSTART:20221106T060000
END:STANDARD
BEGIN:DAYLIGHT
TZOFFSETFROM:-0500
TZOFFSETTO:-0400
TZNAME:EDT
DTSTART:20230312T070000
END:DAYLIGHT
BEGIN:STANDARD
TZOFFSETFROM:-0400
TZOFFSETTO:-0500
TZNAME:EST
DTSTART:20231105T060000
END:STANDARD
BEGIN:DAYLIGHT
TZOFFSETFROM:-0500
TZOFFSETTO:-0400
TZNAME:EDT
DTSTART:20240310T070000
END:DAYLIGHT
BEGIN:STANDARD
TZOFFSETFROM:-0400
TZOFFSETTO:-0500
TZNAME:EST
DTSTART:20241103T060000
END:STANDARD
END:VTIMEZONE
BEGIN:VEVENT
DTSTART;TZID=America/Indiana/Indianapolis:20230806T074400
DTEND;TZID=America/Indiana/Indianapolis:20230806T084400
DTSTAMP:20260424T222357
CREATED:20230710T151755Z
LAST-MODIFIED:20230710T151755Z
UID:3483-1691307840-1691311440@fbc46975.org
SUMMARY:Boat Church
DESCRIPTION: 
URL:https://fbc46975.org/calendar/boat-church-31/
LOCATION:Lake Maniou Spillway
END:VEVENT
BEGIN:VEVENT
DTSTART;TZID=America/Indiana/Indianapolis:20230806T091500
DTEND;TZID=America/Indiana/Indianapolis:20230806T101500
DTSTAMP:20260424T222357
CREATED:20230710T151935Z
LAST-MODIFIED:20230710T151935Z
UID:3485-1691313300-1691316900@fbc46975.org
SUMMARY:Sunday School (in person and on Zoom)
DESCRIPTION: 
URL:https://fbc46975.org/calendar/sunday-school-in-person-and-on-zoom-80/
LOCATION:First Baptist Church\, 1000 Main St\, Rochester\, IN\, 46975\, United States
END:VEVENT
BEGIN:VEVENT
DTSTART;TZID=America/Indiana/Indianapolis:20230806T103000
DTEND;TZID=America/Indiana/Indianapolis:20230806T113000
DTSTAMP:20260424T222357
CREATED:20230710T152040Z
LAST-MODIFIED:20230710T152040Z
UID:3487-1691317800-1691321400@fbc46975.org
SUMMARY:Worship Service (in person or on YouTube)
DESCRIPTION: 
URL:https://fbc46975.org/calendar/worship-service-in-person-or-on-youtube-24/
LOCATION:First Baptist Church\, 1000 Main St\, Rochester\, IN\, 46975\, United States
END:VEVENT
END:VCALENDAR