BEGIN:VCALENDAR
VERSION:2.0
PRODID:-//First Baptist Church - ECPv6.15.17.1//NONSGML v1.0//EN
CALSCALE:GREGORIAN
METHOD:PUBLISH
X-ORIGINAL-URL:https://fbc46975.org
X-WR-CALDESC:Events for First Baptist Church
REFRESH-INTERVAL;VALUE=DURATION:PT1H
X-Robots-Tag:noindex
X-PUBLISHED-TTL:PT1H
BEGIN:VTIMEZONE
TZID:America/Indiana/Indianapolis
BEGIN:DAYLIGHT
TZOFFSETFROM:-0500
TZOFFSETTO:-0400
TZNAME:EDT
DTSTART:20220313T070000
END:DAYLIGHT
BEGIN:STANDARD
TZOFFSETFROM:-0400
TZOFFSETTO:-0500
TZNAME:EST
DTSTART:20221106T060000
END:STANDARD
BEGIN:DAYLIGHT
TZOFFSETFROM:-0500
TZOFFSETTO:-0400
TZNAME:EDT
DTSTART:20230312T070000
END:DAYLIGHT
BEGIN:STANDARD
TZOFFSETFROM:-0400
TZOFFSETTO:-0500
TZNAME:EST
DTSTART:20231105T060000
END:STANDARD
BEGIN:DAYLIGHT
TZOFFSETFROM:-0500
TZOFFSETTO:-0400
TZNAME:EDT
DTSTART:20240310T070000
END:DAYLIGHT
BEGIN:STANDARD
TZOFFSETFROM:-0400
TZOFFSETTO:-0500
TZNAME:EST
DTSTART:20241103T060000
END:STANDARD
END:VTIMEZONE
BEGIN:VEVENT
DTSTART;TZID=America/Indiana/Indianapolis:20230927T100000
DTEND;TZID=America/Indiana/Indianapolis:20230927T110000
DTSTAMP:20260425T091505
CREATED:20230926T132930Z
LAST-MODIFIED:20230926T132930Z
UID:3774-1695808800-1695812400@fbc46975.org
SUMMARY:Men's Bible Study
DESCRIPTION: 
URL:https://fbc46975.org/calendar/mens-bible-study-3/
LOCATION:First Baptist Church\, 1000 Main St\, Rochester\, IN\, 46975\, United States
END:VEVENT
BEGIN:VEVENT
DTSTART;TZID=America/Indiana/Indianapolis:20230927T100000
DTEND;TZID=America/Indiana/Indianapolis:20230927T110000
DTSTAMP:20260425T091505
CREATED:20230926T133035Z
LAST-MODIFIED:20230926T133035Z
UID:3776-1695808800-1695812400@fbc46975.org
SUMMARY:Women's Bible Study
DESCRIPTION: 
URL:https://fbc46975.org/calendar/womens-bible-study-5/
LOCATION:First Baptist Church\, 1000 Main St\, Rochester\, IN\, 46975\, United States
END:VEVENT
BEGIN:VEVENT
DTSTART;TZID=America/Indiana/Indianapolis:20230927T160000
DTEND;TZID=America/Indiana/Indianapolis:20230927T220000
DTSTAMP:20260425T091505
CREATED:20230924T140051Z
LAST-MODIFIED:20230924T140109Z
UID:3766-1695830400-1695852000@fbc46975.org
SUMMARY:Fellowship Guild DQ Night
DESCRIPTION: 
URL:https://fbc46975.org/calendar/fellowship-guild-dq-night/
LOCATION:Rochester Dairy Queen\, IN\, United States
END:VEVENT
BEGIN:VEVENT
DTSTART;TZID=America/Indiana/Indianapolis:20230927T173000
DTEND;TZID=America/Indiana/Indianapolis:20230927T193000
DTSTAMP:20260425T091505
CREATED:20230905T222140Z
LAST-MODIFIED:20230905T222140Z
UID:3667-1695835800-1695843000@fbc46975.org
SUMMARY:Kids Club and Home Builders
DESCRIPTION:5:30 pm Light Meal \n6-7:30 pm Kids Club and Home Builders
URL:https://fbc46975.org/calendar/kids-club-and-home-builders-2/
LOCATION:First Baptist Church\, 1000 Main St\, Rochester\, IN\, 46975\, United States
END:VEVENT
END:VCALENDAR