BEGIN:VCALENDAR
VERSION:2.0
PRODID:-//First Baptist Church - ECPv6.15.17.1//NONSGML v1.0//EN
CALSCALE:GREGORIAN
METHOD:PUBLISH
X-WR-CALNAME:First Baptist Church
X-ORIGINAL-URL:https://fbc46975.org
X-WR-CALDESC:Events for First Baptist Church
REFRESH-INTERVAL;VALUE=DURATION:PT1H
X-Robots-Tag:noindex
X-PUBLISHED-TTL:PT1H
BEGIN:VTIMEZONE
TZID:America/Indiana/Indianapolis
BEGIN:DAYLIGHT
TZOFFSETFROM:-0500
TZOFFSETTO:-0400
TZNAME:EDT
DTSTART:20230312T070000
END:DAYLIGHT
BEGIN:STANDARD
TZOFFSETFROM:-0400
TZOFFSETTO:-0500
TZNAME:EST
DTSTART:20231105T060000
END:STANDARD
BEGIN:DAYLIGHT
TZOFFSETFROM:-0500
TZOFFSETTO:-0400
TZNAME:EDT
DTSTART:20240310T070000
END:DAYLIGHT
BEGIN:STANDARD
TZOFFSETFROM:-0400
TZOFFSETTO:-0500
TZNAME:EST
DTSTART:20241103T060000
END:STANDARD
BEGIN:DAYLIGHT
TZOFFSETFROM:-0500
TZOFFSETTO:-0400
TZNAME:EDT
DTSTART:20250309T070000
END:DAYLIGHT
BEGIN:STANDARD
TZOFFSETFROM:-0400
TZOFFSETTO:-0500
TZNAME:EST
DTSTART:20251102T060000
END:STANDARD
END:VTIMEZONE
BEGIN:VEVENT
DTSTART;TZID=America/Indiana/Indianapolis:20241023T100000
DTEND;TZID=America/Indiana/Indianapolis:20241023T110000
DTSTAMP:20260424T024241
CREATED:20240820T153659Z
LAST-MODIFIED:20240820T153659Z
UID:5067-1729677600-1729681200@fbc46975.org
SUMMARY:Men's and Women's Bible Studies
DESCRIPTION: 
URL:https://fbc46975.org/calendar/mens-and-womens-bible-studies-33/
LOCATION:First Baptist Church\, 1000 Main St\, Rochester\, IN\, 46975\, United States
END:VEVENT
BEGIN:VEVENT
DTSTART;TZID=America/Indiana/Indianapolis:20241023T173000
DTEND;TZID=America/Indiana/Indianapolis:20241023T180000
DTSTAMP:20260424T024241
CREATED:20240807T135708Z
LAST-MODIFIED:20240807T135708Z
UID:5039-1729704600-1729706400@fbc46975.org
SUMMARY:Light Meal
DESCRIPTION: 
URL:https://fbc46975.org/calendar/light-meal-41/
LOCATION:First Baptist Church\, 1000 Main St\, Rochester\, IN\, 46975\, United States
END:VEVENT
BEGIN:VEVENT
DTSTART;TZID=America/Indiana/Indianapolis:20241023T180000
DTEND;TZID=America/Indiana/Indianapolis:20241023T193000
DTSTAMP:20260424T024241
CREATED:20240725T124220Z
LAST-MODIFIED:20240725T124220Z
UID:4983-1729706400-1729711800@fbc46975.org
SUMMARY:Kids Club
DESCRIPTION: 
URL:https://fbc46975.org/calendar/kids-club-29/
LOCATION:First Baptist Church\, 1000 Main St\, Rochester\, IN\, 46975\, United States
END:VEVENT
BEGIN:VEVENT
DTSTART;TZID=America/Indiana/Indianapolis:20241023T180000
DTEND;TZID=America/Indiana/Indianapolis:20241023T193000
DTSTAMP:20260424T024241
CREATED:20240725T125112Z
LAST-MODIFIED:20240725T125112Z
UID:5003-1729706400-1729711800@fbc46975.org
SUMMARY:Homebuilders
DESCRIPTION: 
URL:https://fbc46975.org/calendar/homebuilders-6/
LOCATION:First Baptist Church\, 1000 Main St\, Rochester\, IN\, 46975\, United States
END:VEVENT
END:VCALENDAR