BEGIN:VCALENDAR
VERSION:2.0
PRODID:-//First Baptist Church - ECPv6.15.17.1//NONSGML v1.0//EN
CALSCALE:GREGORIAN
METHOD:PUBLISH
X-ORIGINAL-URL:https://fbc46975.org
X-WR-CALDESC:Events for First Baptist Church
REFRESH-INTERVAL;VALUE=DURATION:PT1H
X-Robots-Tag:noindex
X-PUBLISHED-TTL:PT1H
BEGIN:VTIMEZONE
TZID:America/Indiana/Indianapolis
BEGIN:DAYLIGHT
TZOFFSETFROM:-0500
TZOFFSETTO:-0400
TZNAME:EDT
DTSTART:20230312T070000
END:DAYLIGHT
BEGIN:STANDARD
TZOFFSETFROM:-0400
TZOFFSETTO:-0500
TZNAME:EST
DTSTART:20231105T060000
END:STANDARD
BEGIN:DAYLIGHT
TZOFFSETFROM:-0500
TZOFFSETTO:-0400
TZNAME:EDT
DTSTART:20240310T070000
END:DAYLIGHT
BEGIN:STANDARD
TZOFFSETFROM:-0400
TZOFFSETTO:-0500
TZNAME:EST
DTSTART:20241103T060000
END:STANDARD
BEGIN:DAYLIGHT
TZOFFSETFROM:-0500
TZOFFSETTO:-0400
TZNAME:EDT
DTSTART:20250309T070000
END:DAYLIGHT
BEGIN:STANDARD
TZOFFSETFROM:-0400
TZOFFSETTO:-0500
TZNAME:EST
DTSTART:20251102T060000
END:STANDARD
END:VTIMEZONE
BEGIN:VEVENT
DTSTART;TZID=America/Indiana/Indianapolis:20241208T093000
DTEND;TZID=America/Indiana/Indianapolis:20241208T103000
DTSTAMP:20260422T120344
CREATED:20240909T151147Z
LAST-MODIFIED:20240909T151147Z
UID:5160-1733650200-1733653800@fbc46975.org
SUMMARY:Worship Service (in person and on YouTube)
DESCRIPTION: 
URL:https://fbc46975.org/calendar/worship-service-in-person-and-on-youtube-84/
LOCATION:First Baptist Church\, 1000 Main St\, Rochester\, IN\, 46975\, United States
END:VEVENT
BEGIN:VEVENT
DTSTART;TZID=America/Indiana/Indianapolis:20241208T104500
DTEND;TZID=America/Indiana/Indianapolis:20241208T114500
DTSTAMP:20260422T120344
CREATED:20240909T151633Z
LAST-MODIFIED:20240909T151633Z
UID:5170-1733654700-1733658300@fbc46975.org
SUMMARY:Sunday School (in person and on Zoom)
DESCRIPTION: 
URL:https://fbc46975.org/calendar/sunday-school-in-person-and-on-zoom-112/
LOCATION:First Baptist Church\, 1000 Main St\, Rochester\, IN\, 46975\, United States
END:VEVENT
BEGIN:VEVENT
DTSTART;TZID=America/Indiana/Indianapolis:20241208T170000
DTEND;TZID=America/Indiana/Indianapolis:20241208T190000
DTSTAMP:20260422T120344
CREATED:20241107T161652Z
LAST-MODIFIED:20241107T161652Z
UID:5558-1733677200-1733684400@fbc46975.org
SUMMARY:Church Christmas Celebration
DESCRIPTION: 
URL:https://fbc46975.org/calendar/church-christmas-celebration-2/
LOCATION:First Baptist Church\, 1000 Main St\, Rochester\, IN\, 46975\, United States
END:VEVENT
END:VCALENDAR