BEGIN:VCALENDAR
VERSION:2.0
PRODID:-//First Baptist Church - ECPv6.15.17.1//NONSGML v1.0//EN
CALSCALE:GREGORIAN
METHOD:PUBLISH
X-ORIGINAL-URL:https://fbc46975.org
X-WR-CALDESC:Events for First Baptist Church
REFRESH-INTERVAL;VALUE=DURATION:PT1H
X-Robots-Tag:noindex
X-PUBLISHED-TTL:PT1H
BEGIN:VTIMEZONE
TZID:America/Indiana/Indianapolis
BEGIN:DAYLIGHT
TZOFFSETFROM:-0500
TZOFFSETTO:-0400
TZNAME:EDT
DTSTART:20240310T070000
END:DAYLIGHT
BEGIN:STANDARD
TZOFFSETFROM:-0400
TZOFFSETTO:-0500
TZNAME:EST
DTSTART:20241103T060000
END:STANDARD
BEGIN:DAYLIGHT
TZOFFSETFROM:-0500
TZOFFSETTO:-0400
TZNAME:EDT
DTSTART:20250309T070000
END:DAYLIGHT
BEGIN:STANDARD
TZOFFSETFROM:-0400
TZOFFSETTO:-0500
TZNAME:EST
DTSTART:20251102T060000
END:STANDARD
BEGIN:DAYLIGHT
TZOFFSETFROM:-0500
TZOFFSETTO:-0400
TZNAME:EDT
DTSTART:20260308T070000
END:DAYLIGHT
BEGIN:STANDARD
TZOFFSETFROM:-0400
TZOFFSETTO:-0500
TZNAME:EST
DTSTART:20261101T060000
END:STANDARD
END:VTIMEZONE
BEGIN:VEVENT
DTSTART;TZID=America/Indiana/Indianapolis:20250817T074400
DTEND;TZID=America/Indiana/Indianapolis:20250817T084400
DTSTAMP:20260419T134214
CREATED:20250225T143043Z
LAST-MODIFIED:20250225T143043Z
UID:5885-1755416640-1755420240@fbc46975.org
SUMMARY:Boat Church
DESCRIPTION: 
URL:https://fbc46975.org/calendar/boat-church-62/
LOCATION:Lake Maniou Spillway
END:VEVENT
BEGIN:VEVENT
DTSTART;TZID=America/Indiana/Indianapolis:20250817T091500
DTEND;TZID=America/Indiana/Indianapolis:20250817T101500
DTSTAMP:20260419T134214
CREATED:20250225T144511Z
LAST-MODIFIED:20250327T131943Z
UID:5905-1755422100-1755425700@fbc46975.org
SUMMARY:Sunday School (in person or on Zoom)
DESCRIPTION: 
URL:https://fbc46975.org/calendar/sunday-school-in-person-or-on-zoom-66/
LOCATION:First Baptist Church\, 1000 Main St\, Rochester\, IN\, 46975\, United States
END:VEVENT
BEGIN:VEVENT
DTSTART;TZID=America/Indiana/Indianapolis:20250817T103000
DTEND;TZID=America/Indiana/Indianapolis:20250817T113000
DTSTAMP:20260419T134214
CREATED:20250225T150024Z
LAST-MODIFIED:20250327T131838Z
UID:5923-1755426600-1755430200@fbc46975.org
SUMMARY:Indoor Worship (in person and on YouTube)
DESCRIPTION: 
URL:https://fbc46975.org/calendar/indoor-worship-in-person-and-on-youtube-7/
LOCATION:First Baptist Church\, 1000 Main St\, Rochester\, IN\, 46975\, United States
END:VEVENT
BEGIN:VEVENT
DTSTART;TZID=America/Indiana/Indianapolis:20250817T120000
DTEND;TZID=America/Indiana/Indianapolis:20250817T140000
DTSTAMP:20260419T134214
CREATED:20250624T141930Z
LAST-MODIFIED:20250624T141930Z
UID:6301-1755432000-1755439200@fbc46975.org
SUMMARY:All church picnic
DESCRIPTION: 
URL:https://fbc46975.org/calendar/all-church-picnic/
LOCATION:Rochester City Park
END:VEVENT
END:VCALENDAR