BEGIN:VCALENDAR
VERSION:2.0
PRODID:-//First Baptist Church - ECPv6.15.17.1//NONSGML v1.0//EN
CALSCALE:GREGORIAN
METHOD:PUBLISH
X-ORIGINAL-URL:https://fbc46975.org
X-WR-CALDESC:Events for First Baptist Church
REFRESH-INTERVAL;VALUE=DURATION:PT1H
X-Robots-Tag:noindex
X-PUBLISHED-TTL:PT1H
BEGIN:VTIMEZONE
TZID:America/Indiana/Indianapolis
BEGIN:DAYLIGHT
TZOFFSETFROM:-0500
TZOFFSETTO:-0400
TZNAME:EDT
DTSTART:20250309T070000
END:DAYLIGHT
BEGIN:STANDARD
TZOFFSETFROM:-0400
TZOFFSETTO:-0500
TZNAME:EST
DTSTART:20251102T060000
END:STANDARD
BEGIN:DAYLIGHT
TZOFFSETFROM:-0500
TZOFFSETTO:-0400
TZNAME:EDT
DTSTART:20260308T070000
END:DAYLIGHT
BEGIN:STANDARD
TZOFFSETFROM:-0400
TZOFFSETTO:-0500
TZNAME:EST
DTSTART:20261101T060000
END:STANDARD
BEGIN:DAYLIGHT
TZOFFSETFROM:-0500
TZOFFSETTO:-0400
TZNAME:EDT
DTSTART:20270314T070000
END:DAYLIGHT
BEGIN:STANDARD
TZOFFSETFROM:-0400
TZOFFSETTO:-0500
TZNAME:EST
DTSTART:20271107T060000
END:STANDARD
END:VTIMEZONE
BEGIN:VEVENT
DTSTART;TZID=America/Indiana/Indianapolis:20260222T093000
DTEND;TZID=America/Indiana/Indianapolis:20260222T103000
DTSTAMP:20260423T192854
CREATED:20250924T140708Z
LAST-MODIFIED:20250924T140708Z
UID:6529-1771752600-1771756200@fbc46975.org
SUMMARY:Worship Service (in person and on YouTube)
DESCRIPTION: 
URL:https://fbc46975.org/calendar/worship-service-in-person-and-on-youtube-136/
LOCATION:First Baptist Church\, 1000 Main St\, Rochester\, IN\, 46975\, United States
END:VEVENT
BEGIN:VEVENT
DTSTART;TZID=America/Indiana/Indianapolis:20260222T104500
DTEND;TZID=America/Indiana/Indianapolis:20260222T114500
DTSTAMP:20260423T192854
CREATED:20251006T133504Z
LAST-MODIFIED:20251006T133504Z
UID:6564-1771757100-1771760700@fbc46975.org
SUMMARY:Sunday School (In person and on Zoom)
DESCRIPTION: 
URL:https://fbc46975.org/calendar/sunday-school-in-person-and-on-zoom-158/
LOCATION:First Baptist Church\, 1000 Main St\, Rochester\, IN\, 46975\, United States
END:VEVENT
BEGIN:VEVENT
DTSTART;TZID=America/Indiana/Indianapolis:20260222T120000
DTEND;TZID=America/Indiana/Indianapolis:20260222T140000
DTSTAMP:20260423T192854
CREATED:20260102T163228Z
LAST-MODIFIED:20260102T163228Z
UID:7207-1771761600-1771768800@fbc46975.org
SUMMARY:Youth Group- Nerf War
DESCRIPTION: 
URL:https://fbc46975.org/calendar/youth-group-nerf-war/
LOCATION:First Baptist Church\, 1000 Main St\, Rochester\, IN\, 46975\, United States
END:VEVENT
END:VCALENDAR