BEGIN:VCALENDAR
VERSION:2.0
PRODID:-//First Baptist Church - ECPv6.15.17.1//NONSGML v1.0//EN
CALSCALE:GREGORIAN
METHOD:PUBLISH
X-ORIGINAL-URL:https://fbc46975.org
X-WR-CALDESC:Events for First Baptist Church
REFRESH-INTERVAL;VALUE=DURATION:PT1H
X-Robots-Tag:noindex
X-PUBLISHED-TTL:PT1H
BEGIN:VTIMEZONE
TZID:America/Indiana/Indianapolis
BEGIN:DAYLIGHT
TZOFFSETFROM:-0500
TZOFFSETTO:-0400
TZNAME:EDT
DTSTART:20220313T070000
END:DAYLIGHT
BEGIN:STANDARD
TZOFFSETFROM:-0400
TZOFFSETTO:-0500
TZNAME:EST
DTSTART:20221106T060000
END:STANDARD
BEGIN:DAYLIGHT
TZOFFSETFROM:-0500
TZOFFSETTO:-0400
TZNAME:EDT
DTSTART:20230312T070000
END:DAYLIGHT
BEGIN:STANDARD
TZOFFSETFROM:-0400
TZOFFSETTO:-0500
TZNAME:EST
DTSTART:20231105T060000
END:STANDARD
BEGIN:DAYLIGHT
TZOFFSETFROM:-0500
TZOFFSETTO:-0400
TZNAME:EDT
DTSTART:20240310T070000
END:DAYLIGHT
BEGIN:STANDARD
TZOFFSETFROM:-0400
TZOFFSETTO:-0500
TZNAME:EST
DTSTART:20241103T060000
END:STANDARD
END:VTIMEZONE
BEGIN:VEVENT
DTSTART;TZID=America/Indiana/Indianapolis:20230402T093000
DTEND;TZID=America/Indiana/Indianapolis:20230402T103000
DTSTAMP:20260423T013806
CREATED:20230314T160411Z
LAST-MODIFIED:20230314T160520Z
UID:3164-1680427800-1680431400@fbc46975.org
SUMMARY:Worship Service (in person or on YouTube)
DESCRIPTION: 
URL:https://fbc46975.org/calendar/worship-service-in-person-or-on-youtube-7/
LOCATION:First Baptist Church\, 1000 Main St\, Rochester\, IN\, 46975\, United States
END:VEVENT
BEGIN:VEVENT
DTSTART;TZID=America/Indiana/Indianapolis:20230402T104500
DTEND;TZID=America/Indiana/Indianapolis:20230402T114500
DTSTAMP:20260423T013806
CREATED:20230314T162132Z
LAST-MODIFIED:20230314T162132Z
UID:3184-1680432300-1680435900@fbc46975.org
SUMMARY:Sunday School (in person or on Zoom)
DESCRIPTION: 
URL:https://fbc46975.org/calendar/sunday-school-in-person-or-on-zoom-8/
LOCATION:First Baptist Church\, 1000 Main St\, Rochester\, IN\, 46975\, United States
END:VEVENT
BEGIN:VEVENT
DTSTART;TZID=America/Indiana/Indianapolis:20230404T190000
DTEND;TZID=America/Indiana/Indianapolis:20230404T200000
DTSTAMP:20260423T013806
CREATED:20230314T163911Z
LAST-MODIFIED:20230314T163911Z
UID:3202-1680634800-1680638400@fbc46975.org
SUMMARY:Executive Committee Meeting
DESCRIPTION: 
URL:https://fbc46975.org/calendar/executive-committee-meeting-20/
LOCATION:First Baptist Church\, 1000 Main St\, Rochester\, IN\, 46975\, United States
END:VEVENT
BEGIN:VEVENT
DTSTART;TZID=America/Indiana/Indianapolis:20230405T100000
DTEND;TZID=America/Indiana/Indianapolis:20230405T110000
DTSTAMP:20260423T013806
CREATED:20230314T155426Z
LAST-MODIFIED:20230314T155426Z
UID:3146-1680688800-1680692400@fbc46975.org
SUMMARY:Bible Study
DESCRIPTION: 
URL:https://fbc46975.org/calendar/bible-study-88/
LOCATION:First Baptist Church\, 1000 Main St\, Rochester\, IN\, 46975\, United States
END:VEVENT
BEGIN:VEVENT
DTSTART;TZID=America/Indiana/Indianapolis:20230409T093000
DTEND;TZID=America/Indiana/Indianapolis:20230409T103000
DTSTAMP:20260423T013806
CREATED:20230314T160648Z
LAST-MODIFIED:20230314T160648Z
UID:3168-1681032600-1681036200@fbc46975.org
SUMMARY:Worship Service (in person or on YouTube)
DESCRIPTION: 
URL:https://fbc46975.org/calendar/worship-service-in-person-or-on-youtube-9/
LOCATION:First Baptist Church\, 1000 Main St\, Rochester\, IN\, 46975\, United States
END:VEVENT
BEGIN:VEVENT
DTSTART;TZID=America/Indiana/Indianapolis:20230409T104500
DTEND;TZID=America/Indiana/Indianapolis:20230409T114500
DTSTAMP:20260423T013806
CREATED:20230314T162314Z
LAST-MODIFIED:20230314T162314Z
UID:3186-1681037100-1681040700@fbc46975.org
SUMMARY:Sunday School (in person or on Zoom)
DESCRIPTION: 
URL:https://fbc46975.org/calendar/sunday-school-in-person-or-on-zoom-9/
LOCATION:First Baptist Church\, 1000 Main St\, Rochester\, IN\, 46975\, United States
END:VEVENT
BEGIN:VEVENT
DTSTART;TZID=America/Indiana/Indianapolis:20230411T190000
DTEND;TZID=America/Indiana/Indianapolis:20230411T200000
DTSTAMP:20260423T013806
CREATED:20230314T164217Z
LAST-MODIFIED:20230314T164217Z
UID:3206-1681239600-1681243200@fbc46975.org
SUMMARY:Board Meetings (Trustees\, Deaconate\, Finance\, and Christian Ed)
DESCRIPTION: 
URL:https://fbc46975.org/calendar/board-meetings-trustees-deaconate-finance-and-christian-ed/
LOCATION:First Baptist Church\, 1000 Main St\, Rochester\, IN\, 46975\, United States
END:VEVENT
BEGIN:VEVENT
DTSTART;TZID=America/Indiana/Indianapolis:20230412T100000
DTEND;TZID=America/Indiana/Indianapolis:20230412T110000
DTSTAMP:20260423T013806
CREATED:20230314T155515Z
LAST-MODIFIED:20230314T155515Z
UID:3148-1681293600-1681297200@fbc46975.org
SUMMARY:Bible Study
DESCRIPTION: 
URL:https://fbc46975.org/calendar/bible-study-89/
LOCATION:First Baptist Church\, 1000 Main St\, Rochester\, IN\, 46975\, United States
END:VEVENT
BEGIN:VEVENT
DTSTART;TZID=America/Indiana/Indianapolis:20230416T093000
DTEND;TZID=America/Indiana/Indianapolis:20230416T103000
DTSTAMP:20260423T013806
CREATED:20230314T160837Z
LAST-MODIFIED:20230314T160837Z
UID:3170-1681637400-1681641000@fbc46975.org
SUMMARY:Worship Service (in person or on YouTube)
DESCRIPTION: 
URL:https://fbc46975.org/calendar/worship-service-in-person-or-on-youtube-10/
LOCATION:First Baptist Church\, 1000 Main St\, Rochester\, IN\, 46975\, United States
END:VEVENT
BEGIN:VEVENT
DTSTART;TZID=America/Indiana/Indianapolis:20230416T104500
DTEND;TZID=America/Indiana/Indianapolis:20230416T114500
DTSTAMP:20260423T013806
CREATED:20230314T162502Z
LAST-MODIFIED:20230314T162502Z
UID:3188-1681641900-1681645500@fbc46975.org
SUMMARY:Sunday School (In person or on Zoom)
DESCRIPTION: 
URL:https://fbc46975.org/calendar/sunday-school-in-person-or-on-zoom-10/
LOCATION:First Baptist Church\, 1000 Main St\, Rochester\, IN\, 46975\, United States
END:VEVENT
BEGIN:VEVENT
DTSTART;TZID=America/Indiana/Indianapolis:20230419T100000
DTEND;TZID=America/Indiana/Indianapolis:20230419T110000
DTSTAMP:20260423T013806
CREATED:20230314T155605Z
LAST-MODIFIED:20230314T155605Z
UID:3150-1681898400-1681902000@fbc46975.org
SUMMARY:Bible Study
DESCRIPTION: 
URL:https://fbc46975.org/calendar/bible-study-90/
LOCATION:First Baptist Church\, 1000 Main St\, Rochester\, IN\, 46975\, United States
END:VEVENT
BEGIN:VEVENT
DTSTART;TZID=America/Indiana/Indianapolis:20230423T093000
DTEND;TZID=America/Indiana/Indianapolis:20230423T103000
DTSTAMP:20260423T013806
CREATED:20230314T161002Z
LAST-MODIFIED:20230314T161002Z
UID:3172-1682242200-1682245800@fbc46975.org
SUMMARY:Worship Service (in person or on YouTube)
DESCRIPTION: 
URL:https://fbc46975.org/calendar/worship-service-in-person-or-on-youtube-11/
LOCATION:First Baptist Church\, 1000 Main St\, Rochester\, IN\, 46975\, United States
END:VEVENT
BEGIN:VEVENT
DTSTART;TZID=America/Indiana/Indianapolis:20230423T104500
DTEND;TZID=America/Indiana/Indianapolis:20230423T114500
DTSTAMP:20260423T013806
CREATED:20230314T162841Z
LAST-MODIFIED:20230314T162841Z
UID:3190-1682246700-1682250300@fbc46975.org
SUMMARY:Sunday School (in person or on Zoom)
DESCRIPTION: 
URL:https://fbc46975.org/calendar/sunday-school-in-person-or-on-zoom-11/
LOCATION:First Baptist Church\, 1000 Main St\, Rochester\, IN\, 46975\, United States
END:VEVENT
BEGIN:VEVENT
DTSTART;TZID=America/Indiana/Indianapolis:20230426T100000
DTEND;TZID=America/Indiana/Indianapolis:20230426T110000
DTSTAMP:20260423T013806
CREATED:20230314T155700Z
LAST-MODIFIED:20230314T155700Z
UID:3152-1682503200-1682506800@fbc46975.org
SUMMARY:Bible Study
DESCRIPTION: 
URL:https://fbc46975.org/calendar/bible-study-91/
LOCATION:First Baptist Church\, 1000 Main St\, Rochester\, IN\, 46975\, United States
END:VEVENT
BEGIN:VEVENT
DTSTART;TZID=America/Indiana/Indianapolis:20230430T093000
DTEND;TZID=America/Indiana/Indianapolis:20230430T103000
DTSTAMP:20260423T013806
CREATED:20230314T161200Z
LAST-MODIFIED:20230314T161200Z
UID:3174-1682847000-1682850600@fbc46975.org
SUMMARY:Worship Service (in person or on YouTube)
DESCRIPTION: 
URL:https://fbc46975.org/calendar/worship-service-in-person-or-on-youtube-12/
LOCATION:First Baptist Church\, 1000 Main St\, Rochester\, IN\, 46975\, United States
END:VEVENT
BEGIN:VEVENT
DTSTART;TZID=America/Indiana/Indianapolis:20230430T104500
DTEND;TZID=America/Indiana/Indianapolis:20230430T114500
DTSTAMP:20260423T013806
CREATED:20230314T163018Z
LAST-MODIFIED:20230314T163018Z
UID:3192-1682851500-1682855100@fbc46975.org
SUMMARY:Sunday School (in person or on Zoom)
DESCRIPTION: 
URL:https://fbc46975.org/calendar/sunday-school-in-person-or-on-zoom-12/
LOCATION:First Baptist Church\, 1000 Main St\, Rochester\, IN\, 46975\, United States
END:VEVENT
BEGIN:VEVENT
DTSTART;TZID=America/Indiana/Indianapolis:20230430T120000
DTEND;TZID=America/Indiana/Indianapolis:20230430T180000
DTSTAMP:20260423T013806
CREATED:20230423T142343Z
LAST-MODIFIED:20230423T142343Z
UID:3256-1682856000-1682877600@fbc46975.org
SUMMARY:Youth TopGolf
DESCRIPTION:For more information contact Rhonda Johnson at 574.721-8544  
URL:https://fbc46975.org/calendar/youth-topgolf/
ORGANIZER;CN="Rhonda Johnson":MAILTO:rhondajohnson@fbc46975.org
END:VEVENT
END:VCALENDAR